BEGIN:VCALENDAR
VERSION:2.0
PRODID:-//DRAAG JE GELUK - ECPv6.15.20//NONSGML v1.0//EN
CALSCALE:GREGORIAN
METHOD:PUBLISH
X-WR-CALNAME:DRAAG JE GELUK
X-ORIGINAL-URL:https://www.draagjegeluk.nl
X-WR-CALDESC:Evenementen voor DRAAG JE GELUK
REFRESH-INTERVAL;VALUE=DURATION:PT1H
X-Robots-Tag:noindex
X-PUBLISHED-TTL:PT1H
BEGIN:VTIMEZONE
TZID:Europe/Amsterdam
BEGIN:DAYLIGHT
TZOFFSETFROM:+0100
TZOFFSETTO:+0200
TZNAME:CEST
DTSTART:20230326T010000
END:DAYLIGHT
BEGIN:STANDARD
TZOFFSETFROM:+0200
TZOFFSETTO:+0100
TZNAME:CET
DTSTART:20231029T010000
END:STANDARD
BEGIN:DAYLIGHT
TZOFFSETFROM:+0100
TZOFFSETTO:+0200
TZNAME:CEST
DTSTART:20240331T010000
END:DAYLIGHT
BEGIN:STANDARD
TZOFFSETFROM:+0200
TZOFFSETTO:+0100
TZNAME:CET
DTSTART:20241027T010000
END:STANDARD
BEGIN:DAYLIGHT
TZOFFSETFROM:+0100
TZOFFSETTO:+0200
TZNAME:CEST
DTSTART:20250330T010000
END:DAYLIGHT
BEGIN:STANDARD
TZOFFSETFROM:+0200
TZOFFSETTO:+0100
TZNAME:CET
DTSTART:20251026T010000
END:STANDARD
END:VTIMEZONE
BEGIN:VEVENT
DTSTART;TZID=Europe/Amsterdam:20241221T100000
DTEND;TZID=Europe/Amsterdam:20241221T200000
DTSTAMP:20260419T162146
CREATED:20241212T134811Z
LAST-MODIFIED:20250721T110900Z
UID:2385-1734775200-1734811200@www.draagjegeluk.nl
SUMMARY:Magical Christmas Market
DESCRIPTION:Beautiful Christmas Market & Mini Tarot Reading bij Beautiful Gift Store – Kerkdriel
URL:https://www.draagjegeluk.nl/event/beautiful-christmas-market-tarot-reading/
LOCATION:Beautiful Gift Store\, Bulkseweg 13A\, Kerkdriel\, Gelderland\, 5331 PK
CATEGORIES:Tarot Reading
END:VEVENT
BEGIN:VEVENT
DTSTART;TZID=Europe/Amsterdam:20241221T110000
DTEND;TZID=Europe/Amsterdam:20241221T150000
DTSTAMP:20260419T162146
CREATED:20241212T132814Z
LAST-MODIFIED:20250721T110900Z
UID:2383-1734778800-1734793200@www.draagjegeluk.nl
SUMMARY:Tarot Reading
DESCRIPTION:Tarot Reading bij Beautiful Gift Store – Kerkedriel
URL:https://www.draagjegeluk.nl/event/tarot-reading-21-12-24/
LOCATION:Beautiful Gift Store\, Bulkseweg 13A\, Kerkdriel\, Gelderland\, 5331 PK
CATEGORIES:Tarot Reading
END:VEVENT
END:VCALENDAR