BEGIN:VCALENDAR
VERSION:2.0
PRODID:-//DRAAG JE GELUK - ECPv6.15.20//NONSGML v1.0//EN
CALSCALE:GREGORIAN
METHOD:PUBLISH
X-ORIGINAL-URL:https://www.draagjegeluk.nl
X-WR-CALDESC:Evenementen voor DRAAG JE GELUK
REFRESH-INTERVAL;VALUE=DURATION:PT1H
X-Robots-Tag:noindex
X-PUBLISHED-TTL:PT1H
BEGIN:VTIMEZONE
TZID:Europe/Amsterdam
BEGIN:DAYLIGHT
TZOFFSETFROM:+0100
TZOFFSETTO:+0200
TZNAME:CEST
DTSTART:20230326T010000
END:DAYLIGHT
BEGIN:STANDARD
TZOFFSETFROM:+0200
TZOFFSETTO:+0100
TZNAME:CET
DTSTART:20231029T010000
END:STANDARD
BEGIN:DAYLIGHT
TZOFFSETFROM:+0100
TZOFFSETTO:+0200
TZNAME:CEST
DTSTART:20240331T010000
END:DAYLIGHT
BEGIN:STANDARD
TZOFFSETFROM:+0200
TZOFFSETTO:+0100
TZNAME:CET
DTSTART:20241027T010000
END:STANDARD
BEGIN:DAYLIGHT
TZOFFSETFROM:+0100
TZOFFSETTO:+0200
TZNAME:CEST
DTSTART:20250330T010000
END:DAYLIGHT
BEGIN:STANDARD
TZOFFSETFROM:+0200
TZOFFSETTO:+0100
TZNAME:CET
DTSTART:20251026T010000
END:STANDARD
BEGIN:DAYLIGHT
TZOFFSETFROM:+0100
TZOFFSETTO:+0200
TZNAME:CEST
DTSTART:20260329T010000
END:DAYLIGHT
BEGIN:STANDARD
TZOFFSETFROM:+0200
TZOFFSETTO:+0100
TZNAME:CET
DTSTART:20261025T010000
END:STANDARD
END:VTIMEZONE
BEGIN:VEVENT
DTSTART;TZID=Europe/Amsterdam:20240821T100000
DTEND;TZID=Europe/Amsterdam:20240821T120000
DTSTAMP:20260423T003111
CREATED:20231230T162508Z
LAST-MODIFIED:20250721T110900Z
UID:1825-1724234400-1724241600@www.draagjegeluk.nl
SUMMARY:Het Betuwse MamaCafé Tiel
DESCRIPTION:Zinder Café te Tiel\nElke 1e en 3e woensdagochtend van de maand van 10 tot 12uur.\nDe toegang is gratis
URL:https://www.draagjegeluk.nl/event/het-betuwse-mamacafe-tiel-210824/
LOCATION:Het Betuwse MamaCafé Tiel\, Rechtbankstraat 1\, Tiel\, Gelderland\, 4001 JR\, Nederland
CATEGORIES:MamaCafé
END:VEVENT
BEGIN:VEVENT
DTSTART;TZID=Europe/Amsterdam:20240823T100000
DTEND;TZID=Europe/Amsterdam:20240823T120000
DTSTAMP:20260423T003111
CREATED:20231230T164207Z
LAST-MODIFIED:20250721T110900Z
UID:1852-1724407200-1724414400@www.draagjegeluk.nl
SUMMARY:Het Betuwse MamaCafé Maurik
DESCRIPTION:’t Klokhuis te Maurik\nElke 4e vrijdagochtend van de maand van 10 tot 12uur.\nDe toegang is gratis
URL:https://www.draagjegeluk.nl/event/het-betuwse-mamacafe-maurik-230824/
LOCATION:Het Betuwse MamaCafé Maurik\, Sterappelhof 7\, Maurik\, Gelderland\, 4021 VC\, Nederland
CATEGORIES:MamaCafé
END:VEVENT
BEGIN:VEVENT
DTSTART;TZID=Europe/Amsterdam:20240904T100000
DTEND;TZID=Europe/Amsterdam:20240904T120000
DTSTAMP:20260423T003111
CREATED:20240418T101848Z
LAST-MODIFIED:20250721T110900Z
UID:1984-1725444000-1725451200@www.draagjegeluk.nl
SUMMARY:Het Betuwse MamaCafé Tiel
DESCRIPTION:Zinder Café te Tiel\nElke 1e en 3e woensdagochtend van de maand van 10 tot 12uur.\nDe toegang is gratis
URL:https://www.draagjegeluk.nl/event/het-betuwse-mamacafe-tiel-040924/
LOCATION:Het Betuwse MamaCafé Tiel\, Rechtbankstraat 1\, Tiel\, Gelderland\, 4001 JR\, Nederland
CATEGORIES:MamaCafé
END:VEVENT
BEGIN:VEVENT
DTSTART;TZID=Europe/Amsterdam:20240906T100000
DTEND;TZID=Europe/Amsterdam:20240906T120000
DTSTAMP:20260423T003111
CREATED:20231230T154036Z
LAST-MODIFIED:20250721T110900Z
UID:1769-1725616800-1725624000@www.draagjegeluk.nl
SUMMARY:Het Betuwse MamaCafé Lienden
DESCRIPTION:Bibliotheek te Lienden. Elke 1e vrijdagochtend van de maand van 10 tot 12uur.De toegang is gratis
URL:https://www.draagjegeluk.nl/event/het-betuwse-mamacafe-lienden-060924/
LOCATION:Het Betuwse MamaCafé Lienden\, Blommeland 14\, Lienden\, Gelderland\, 4033 JL
CATEGORIES:MamaCafé
END:VEVENT
BEGIN:VEVENT
DTSTART;TZID=Europe/Amsterdam:20240912T100000
DTEND;TZID=Europe/Amsterdam:20240912T120000
DTSTAMP:20260423T003111
CREATED:20231230T160938Z
LAST-MODIFIED:20250721T110900Z
UID:1801-1726135200-1726142400@www.draagjegeluk.nl
SUMMARY:Het Betuwse MamaCafé Geldermalsen
DESCRIPTION:Bij Le Mélangeur Koffie Thee & Chocolade\, Marktplein 16\, 4191 AC Geldermalsen
URL:https://www.draagjegeluk.nl/event/het-betuwse-mamacafe-geldermalsen-120924/
LOCATION:Het Betuwse MamaCafé Geldermalsen\, Herman Kuijkstraat 54\, Geldermalsen\, Gelderland\, 4191 AB
CATEGORIES:MamaCafé
END:VEVENT
BEGIN:VEVENT
DTSTART;TZID=Europe/Amsterdam:20240918T100000
DTEND;TZID=Europe/Amsterdam:20240918T120000
DTSTAMP:20260423T003111
CREATED:20231230T162556Z
LAST-MODIFIED:20250721T110900Z
UID:1827-1726653600-1726660800@www.draagjegeluk.nl
SUMMARY:Het Betuwse MamaCafé Tiel
DESCRIPTION:Zinder Café te Tiel\nElke 1e en 3e woensdagochtend van de maand van 10 tot 12uur.\nDe toegang is gratis
URL:https://www.draagjegeluk.nl/event/het-betuwse-mamacafe-tiel-180924/
LOCATION:Het Betuwse MamaCafé Tiel\, Rechtbankstraat 1\, Tiel\, Gelderland\, 4001 JR\, Nederland
CATEGORIES:MamaCafé
END:VEVENT
BEGIN:VEVENT
DTSTART;TZID=Europe/Amsterdam:20240927T100000
DTEND;TZID=Europe/Amsterdam:20240927T120000
DTSTAMP:20260423T003111
CREATED:20231230T164246Z
LAST-MODIFIED:20250721T110900Z
UID:1854-1727431200-1727438400@www.draagjegeluk.nl
SUMMARY:Het Betuwse MamaCafé Maurik
DESCRIPTION:Bij de Zorgcentrum De Valentijn\, Maurik\nElke 4e vrijdagochtend van de maand van 10 tot 12uur.\nDe toegang is gratis
URL:https://www.draagjegeluk.nl/event/het-betuwse-mamacafe-maurik-270924/
LOCATION:Het Betuwse MamaCafé Maurik – De Valentijn\, Saffatinstraat 84\, Maurik\, Gelderland\, 4021 HN
CATEGORIES:MamaCafé
END:VEVENT
BEGIN:VEVENT
DTSTART;TZID=Europe/Amsterdam:20241002T100000
DTEND;TZID=Europe/Amsterdam:20241002T120000
DTSTAMP:20260423T003111
CREATED:20240418T101912Z
LAST-MODIFIED:20250721T110900Z
UID:1986-1727863200-1727870400@www.draagjegeluk.nl
SUMMARY:Het Betuwse MamaCafé Tiel
DESCRIPTION:Zinder Café te Tiel\nElke 1e en 3e woensdagochtend van de maand van 10 tot 12uur.\nDe toegang is gratis
URL:https://www.draagjegeluk.nl/event/het-betuwse-mamacafe-tiel-021024/
LOCATION:Het Betuwse MamaCafé Tiel\, Rechtbankstraat 1\, Tiel\, Gelderland\, 4001 JR\, Nederland
CATEGORIES:MamaCafé
END:VEVENT
BEGIN:VEVENT
DTSTART;TZID=Europe/Amsterdam:20241004T100000
DTEND;TZID=Europe/Amsterdam:20241004T120000
DTSTAMP:20260423T003111
CREATED:20231230T154112Z
LAST-MODIFIED:20250721T110900Z
UID:1771-1728036000-1728043200@www.draagjegeluk.nl
SUMMARY:Het Betuwse MamaCafé Lienden
DESCRIPTION:Bibliotheek te Lienden. Elke 1e vrijdagochtend van de maand van 10 tot 12uur.De toegang is gratis
URL:https://www.draagjegeluk.nl/event/het-betuwse-mamacafe-lienden-041024/
LOCATION:Het Betuwse MamaCafé Lienden\, Blommeland 14\, Lienden\, Gelderland\, 4033 JL
CATEGORIES:MamaCafé
END:VEVENT
BEGIN:VEVENT
DTSTART;TZID=Europe/Amsterdam:20241010T100000
DTEND;TZID=Europe/Amsterdam:20241010T120000
DTSTAMP:20260423T003111
CREATED:20231230T161012Z
LAST-MODIFIED:20250721T110900Z
UID:1803-1728554400-1728561600@www.draagjegeluk.nl
SUMMARY:Het Betuwse MamaCafé Geldermalsen
DESCRIPTION:Bij Le Mélangeur Koffie Thee & Chocolade\, Marktplein 16\, 4191 AC Geldermalsen
URL:https://www.draagjegeluk.nl/event/het-betuwse-mamacafe-geldermalsen-101024/
LOCATION:Het Betuwse MamaCafé Geldermalsen\, Herman Kuijkstraat 54\, Geldermalsen\, Gelderland\, 4191 AB
CATEGORIES:MamaCafé
END:VEVENT
BEGIN:VEVENT
DTSTART;TZID=Europe/Amsterdam:20241016T100000
DTEND;TZID=Europe/Amsterdam:20241016T120000
DTSTAMP:20260423T003111
CREATED:20231230T162800Z
LAST-MODIFIED:20250721T110900Z
UID:1829-1729072800-1729080000@www.draagjegeluk.nl
SUMMARY:Het Betuwse MamaCafé Tiel
DESCRIPTION:Zinder Café te Tiel\nElke 1e en 3e woensdagochtend van de maand van 10 tot 12uur.\nDe toegang is gratis
URL:https://www.draagjegeluk.nl/event/het-betuwse-mamacafe-tiel-161024/
LOCATION:Het Betuwse MamaCafé Tiel\, Rechtbankstraat 1\, Tiel\, Gelderland\, 4001 JR\, Nederland
CATEGORIES:MamaCafé
END:VEVENT
BEGIN:VEVENT
DTSTART;TZID=Europe/Amsterdam:20241025T100000
DTEND;TZID=Europe/Amsterdam:20241025T120000
DTSTAMP:20260423T003111
CREATED:20231230T164321Z
LAST-MODIFIED:20250721T110900Z
UID:1856-1729850400-1729857600@www.draagjegeluk.nl
SUMMARY:Het Betuwse MamaCafé Maurik
DESCRIPTION:Bij de Zorgcentrum De Valentijn\, Maurik\nElke 4e vrijdagochtend van de maand van 10 tot 12uur.\nDe toegang is gratis
URL:https://www.draagjegeluk.nl/event/het-betuwse-mamacafe-maurik-251024/
LOCATION:Het Betuwse MamaCafé Maurik – De Valentijn\, Saffatinstraat 84\, Maurik\, Gelderland\, 4021 HN
CATEGORIES:MamaCafé
END:VEVENT
BEGIN:VEVENT
DTSTART;TZID=Europe/Amsterdam:20241101T100000
DTEND;TZID=Europe/Amsterdam:20241101T120000
DTSTAMP:20260423T003111
CREATED:20231230T154142Z
LAST-MODIFIED:20250721T110900Z
UID:1773-1730455200-1730462400@www.draagjegeluk.nl
SUMMARY:Het Betuwse MamaCafé Lienden
DESCRIPTION:Bibliotheek te Lienden. Elke 1e vrijdagochtend van de maand van 10 tot 12uur.De toegang is gratis
URL:https://www.draagjegeluk.nl/event/het-betuwse-mamacafe-lienden-011124/
LOCATION:Het Betuwse MamaCafé Lienden\, Blommeland 14\, Lienden\, Gelderland\, 4033 JL
CATEGORIES:MamaCafé
END:VEVENT
BEGIN:VEVENT
DTSTART;TZID=Europe/Amsterdam:20241106T100000
DTEND;TZID=Europe/Amsterdam:20241106T120000
DTSTAMP:20260423T003111
CREATED:20240418T101936Z
LAST-MODIFIED:20250721T110900Z
UID:1988-1730887200-1730894400@www.draagjegeluk.nl
SUMMARY:Het Betuwse MamaCafé Tiel
DESCRIPTION:Zinder Café te Tiel\nElke 1e en 3e woensdagochtend van de maand van 10 tot 12uur.\nDe toegang is gratis
URL:https://www.draagjegeluk.nl/event/het-betuwse-mamacafe-tiel-061124/
LOCATION:Het Betuwse MamaCafé Tiel\, Rechtbankstraat 1\, Tiel\, Gelderland\, 4001 JR\, Nederland
CATEGORIES:MamaCafé
END:VEVENT
BEGIN:VEVENT
DTSTART;TZID=Europe/Amsterdam:20241114T100000
DTEND;TZID=Europe/Amsterdam:20241114T120000
DTSTAMP:20260423T003111
CREATED:20231230T161042Z
LAST-MODIFIED:20250721T110900Z
UID:1805-1731578400-1731585600@www.draagjegeluk.nl
SUMMARY:Het Betuwse MamaCafé Geldermalsen
DESCRIPTION:Bij Le Mélangeur Koffie Thee & Chocolade\, Marktplein 16\, 4191 AC Geldermalsen
URL:https://www.draagjegeluk.nl/event/het-betuwse-mamacafe-geldermalsen-141124/
LOCATION:Het Betuwse MamaCafé Geldermalsen\, Herman Kuijkstraat 54\, Geldermalsen\, Gelderland\, 4191 AB
CATEGORIES:MamaCafé
END:VEVENT
BEGIN:VEVENT
DTSTART;TZID=Europe/Amsterdam:20241120T100000
DTEND;TZID=Europe/Amsterdam:20241120T120000
DTSTAMP:20260423T003111
CREATED:20231230T162855Z
LAST-MODIFIED:20250721T110900Z
UID:1831-1732096800-1732104000@www.draagjegeluk.nl
SUMMARY:Het Betuwse MamaCafé Tiel
DESCRIPTION:Zinder Café te Tiel\nElke 1e en 3e woensdagochtend van de maand van 10 tot 12uur.\nDe toegang is gratis
URL:https://www.draagjegeluk.nl/event/het-betuwse-mamacafe-tiel-201124/
LOCATION:Het Betuwse MamaCafé Tiel\, Rechtbankstraat 1\, Tiel\, Gelderland\, 4001 JR\, Nederland
CATEGORIES:MamaCafé
END:VEVENT
BEGIN:VEVENT
DTSTART;TZID=Europe/Amsterdam:20241122T100000
DTEND;TZID=Europe/Amsterdam:20241122T120000
DTSTAMP:20260423T003111
CREATED:20231230T164352Z
LAST-MODIFIED:20250721T110900Z
UID:1858-1732269600-1732276800@www.draagjegeluk.nl
SUMMARY:Het Betuwse MamaCafé Maurik
DESCRIPTION:Bij de Zorgcentrum De Valentijn\, Maurik\nElke 4e vrijdagochtend van de maand van 10 tot 12uur.\nDe toegang is gratis
URL:https://www.draagjegeluk.nl/event/het-betuwse-mamacafe-maurik-221124/
LOCATION:Het Betuwse MamaCafé Maurik – De Valentijn\, Saffatinstraat 84\, Maurik\, Gelderland\, 4021 HN
CATEGORIES:MamaCafé
END:VEVENT
BEGIN:VEVENT
DTSTART;TZID=Europe/Amsterdam:20241204T100000
DTEND;TZID=Europe/Amsterdam:20241204T120000
DTSTAMP:20260423T003111
CREATED:20240418T102000Z
LAST-MODIFIED:20250721T110900Z
UID:1990-1733306400-1733313600@www.draagjegeluk.nl
SUMMARY:Het Betuwse MamaCafé Tiel
DESCRIPTION:Zinder Café te Tiel\nElke 1e en 3e woensdagochtend van de maand van 10 tot 12uur.\nDe toegang is gratis
URL:https://www.draagjegeluk.nl/event/het-betuwse-mamacafe-tiel-041224/
LOCATION:Het Betuwse MamaCafé Tiel\, Rechtbankstraat 1\, Tiel\, Gelderland\, 4001 JR\, Nederland
CATEGORIES:MamaCafé
END:VEVENT
BEGIN:VEVENT
DTSTART;TZID=Europe/Amsterdam:20241206T100000
DTEND;TZID=Europe/Amsterdam:20241206T120000
DTSTAMP:20260423T003111
CREATED:20231230T154216Z
LAST-MODIFIED:20250721T110900Z
UID:1775-1733479200-1733486400@www.draagjegeluk.nl
SUMMARY:Het Betuwse MamaCafé Lienden
DESCRIPTION:Bibliotheek te Lienden. Elke 1e vrijdagochtend van de maand van 10 tot 12uur.De toegang is gratis
URL:https://www.draagjegeluk.nl/event/het-betuwse-mamacafe-lienden-061224/
LOCATION:Het Betuwse MamaCafé Lienden\, Blommeland 14\, Lienden\, Gelderland\, 4033 JL
CATEGORIES:MamaCafé
END:VEVENT
BEGIN:VEVENT
DTSTART;TZID=Europe/Amsterdam:20241212T100000
DTEND;TZID=Europe/Amsterdam:20241212T120000
DTSTAMP:20260423T003111
CREATED:20231230T161112Z
LAST-MODIFIED:20250721T110900Z
UID:1807-1733997600-1734004800@www.draagjegeluk.nl
SUMMARY:Het Betuwse MamaCafé Geldermalsen
DESCRIPTION:Bij Le Mélangeur Koffie Thee & Chocolade\, Marktplein 16\, 4191 AC Geldermalsen
URL:https://www.draagjegeluk.nl/event/het-betuwse-mamacafe-geldermalsen-121224/
LOCATION:Het Betuwse MamaCafé Geldermalsen\, Herman Kuijkstraat 54\, Geldermalsen\, Gelderland\, 4191 AB
CATEGORIES:MamaCafé
END:VEVENT
BEGIN:VEVENT
DTSTART;TZID=Europe/Amsterdam:20241218T100000
DTEND;TZID=Europe/Amsterdam:20241218T120000
DTSTAMP:20260423T003111
CREATED:20231230T162930Z
LAST-MODIFIED:20250721T110900Z
UID:1833-1734516000-1734523200@www.draagjegeluk.nl
SUMMARY:Het Betuwse MamaCafé Tiel
DESCRIPTION:Zinder Café te Tiel\nElke 1e en 3e woensdagochtend van de maand van 10 tot 12uur.\nDe toegang is gratis
URL:https://www.draagjegeluk.nl/event/het-betuwse-mamacafe-tiel-181224/
LOCATION:Het Betuwse MamaCafé Tiel\, Rechtbankstraat 1\, Tiel\, Gelderland\, 4001 JR\, Nederland
CATEGORIES:MamaCafé
END:VEVENT
BEGIN:VEVENT
DTSTART;TZID=Europe/Amsterdam:20241227T100000
DTEND;TZID=Europe/Amsterdam:20241227T120000
DTSTAMP:20260423T003111
CREATED:20231230T164420Z
LAST-MODIFIED:20250721T110900Z
UID:1860-1735293600-1735300800@www.draagjegeluk.nl
SUMMARY:Het Betuwse MamaCafé Maurik
DESCRIPTION:Bij de Zorgcentrum De Valentijn\, Maurik\nElke 4e vrijdagochtend van de maand van 10 tot 12uur.\nDe toegang is gratis
URL:https://www.draagjegeluk.nl/event/het-betuwse-mamacafe-maurik-271224/
LOCATION:Het Betuwse MamaCafé Maurik – De Valentijn\, Saffatinstraat 84\, Maurik\, Gelderland\, 4021 HN
CATEGORIES:MamaCafé
END:VEVENT
BEGIN:VEVENT
DTSTART;TZID=Europe/Amsterdam:20250103T100000
DTEND;TZID=Europe/Amsterdam:20250103T120000
DTSTAMP:20260423T003111
CREATED:20241105T100212Z
LAST-MODIFIED:20250721T110900Z
UID:2242-1735898400-1735905600@www.draagjegeluk.nl
SUMMARY:Het Betuwse MamaCafé Lienden
DESCRIPTION:Bibliotheek te Lienden. Elke 1e vrijdagochtend van de maand van 10 tot 12uur.De toegang is gratis
URL:https://www.draagjegeluk.nl/event/het-betuwse-mamacafe-lienden/
LOCATION:Het Betuwse MamaCafé Lienden\, Blommeland 14\, Lienden\, Gelderland\, 4033 JL
CATEGORIES:MamaCafé
END:VEVENT
BEGIN:VEVENT
DTSTART;TZID=Europe/Amsterdam:20250109T100000
DTEND;TZID=Europe/Amsterdam:20250109T120000
DTSTAMP:20260423T003111
CREATED:20241105T100340Z
LAST-MODIFIED:20250721T110900Z
UID:2244-1736416800-1736424000@www.draagjegeluk.nl
SUMMARY:Het Betuwse MamaCafé Geldermalsen
DESCRIPTION:Bij Le Mélangeur Koffie Thee & Chocolade\, Marktplein 16\, 4191 AC Geldermalsen
URL:https://www.draagjegeluk.nl/event/het-betuwse-mamacafe-geldermalsen/
LOCATION:Het Betuwse MamaCafé Geldermalsen\, Herman Kuijkstraat 54\, Geldermalsen\, Gelderland\, 4191 AB
CATEGORIES:MamaCafé
END:VEVENT
BEGIN:VEVENT
DTSTART;TZID=Europe/Amsterdam:20250115T100000
DTEND;TZID=Europe/Amsterdam:20250115T120000
DTSTAMP:20260423T003111
CREATED:20241105T100431Z
LAST-MODIFIED:20250721T110900Z
UID:2246-1736935200-1736942400@www.draagjegeluk.nl
SUMMARY:Het Betuwse MamaCafé Tiel
DESCRIPTION:Zinder Café te Tiel\nElke 1e en 3e woensdagochtend van de maand van 10 tot 12uur.\nDe toegang is gratis
URL:https://www.draagjegeluk.nl/event/het-betuwse-mamacafe-tiel-2/
LOCATION:Het Betuwse MamaCafé Tiel\, Rechtbankstraat 1\, Tiel\, Gelderland\, 4001 JR\, Nederland
CATEGORIES:MamaCafé
END:VEVENT
BEGIN:VEVENT
DTSTART;TZID=Europe/Amsterdam:20250205T100000
DTEND;TZID=Europe/Amsterdam:20250205T120000
DTSTAMP:20260423T003111
CREATED:20241105T100516Z
LAST-MODIFIED:20250721T110859Z
UID:2248-1738749600-1738756800@www.draagjegeluk.nl
SUMMARY:Het Betuwse MamaCafé Tiel
DESCRIPTION:Zinder Café te Tiel\nElke 1e en 3e woensdagochtend van de maand van 10 tot 12uur.\nDe toegang is gratis
URL:https://www.draagjegeluk.nl/event/het-betuwse-mamacafe-tiel-3/
LOCATION:Het Betuwse MamaCafé Tiel\, Rechtbankstraat 1\, Tiel\, Gelderland\, 4001 JR\, Nederland
CATEGORIES:MamaCafé
END:VEVENT
BEGIN:VEVENT
DTSTART;TZID=Europe/Amsterdam:20250207T100000
DTEND;TZID=Europe/Amsterdam:20250207T120000
DTSTAMP:20260423T003111
CREATED:20241105T100553Z
LAST-MODIFIED:20250721T110859Z
UID:2250-1738922400-1738929600@www.draagjegeluk.nl
SUMMARY:Het Betuwse MamaCafé Lienden
DESCRIPTION:Bibliotheek te Lienden. Elke 1e vrijdagochtend van de maand van 10 tot 12uur.De toegang is gratis
URL:https://www.draagjegeluk.nl/event/het-betuwse-mamacafe-lienden-2/
LOCATION:Het Betuwse MamaCafé Lienden\, Blommeland 14\, Lienden\, Gelderland\, 4033 JL
CATEGORIES:MamaCafé
END:VEVENT
BEGIN:VEVENT
DTSTART;TZID=Europe/Amsterdam:20250213T100000
DTEND;TZID=Europe/Amsterdam:20250213T120000
DTSTAMP:20260423T003111
CREATED:20241105T100625Z
LAST-MODIFIED:20250721T110859Z
UID:2252-1739440800-1739448000@www.draagjegeluk.nl
SUMMARY:Het Betuwse MamaCafé Geldermalsen
DESCRIPTION:Bij Le Mélangeur Koffie Thee & Chocolade\, Marktplein 16\, 4191 AC Geldermalsen
URL:https://www.draagjegeluk.nl/event/het-betuwse-mamacafe-geldermalsen-2/
LOCATION:Het Betuwse MamaCafé Geldermalsen\, Herman Kuijkstraat 54\, Geldermalsen\, Gelderland\, 4191 AB
CATEGORIES:MamaCafé
END:VEVENT
BEGIN:VEVENT
DTSTART;TZID=Europe/Amsterdam:20250219T100000
DTEND;TZID=Europe/Amsterdam:20250219T120000
DTSTAMP:20260423T003111
CREATED:20241105T100700Z
LAST-MODIFIED:20250721T110859Z
UID:2254-1739959200-1739966400@www.draagjegeluk.nl
SUMMARY:Het Betuwse MamaCafé Tiel
DESCRIPTION:Zinder Café te Tiel\nElke 1e en 3e woensdagochtend van de maand van 10 tot 12uur.\nDe toegang is gratis
URL:https://www.draagjegeluk.nl/event/het-betuwse-mamacafe-tiel-4/
LOCATION:Het Betuwse MamaCafé Tiel\, Rechtbankstraat 1\, Tiel\, Gelderland\, 4001 JR\, Nederland
CATEGORIES:MamaCafé
END:VEVENT
BEGIN:VEVENT
DTSTART;TZID=Europe/Amsterdam:20250305T100000
DTEND;TZID=Europe/Amsterdam:20250305T120000
DTSTAMP:20260423T003111
CREATED:20241105T111740Z
LAST-MODIFIED:20250721T110859Z
UID:2257-1741168800-1741176000@www.draagjegeluk.nl
SUMMARY:Het Betuwse MamaCafé Tiel
DESCRIPTION:Zinder Café te Tiel\nElke 1e en 3e woensdagochtend van de maand van 10 tot 12uur.\nDe toegang is gratis
URL:https://www.draagjegeluk.nl/event/het-betuwse-mamacafe-tiel-5/
LOCATION:Het Betuwse MamaCafé Tiel\, Rechtbankstraat 1\, Tiel\, Gelderland\, 4001 JR\, Nederland
CATEGORIES:MamaCafé
END:VEVENT
END:VCALENDAR