BEGIN:VCALENDAR
VERSION:2.0
PRODID:-//DRAAG JE GELUK - ECPv6.15.20//NONSGML v1.0//EN
CALSCALE:GREGORIAN
METHOD:PUBLISH
X-ORIGINAL-URL:https://www.draagjegeluk.nl
X-WR-CALDESC:Evenementen voor DRAAG JE GELUK
REFRESH-INTERVAL;VALUE=DURATION:PT1H
X-Robots-Tag:noindex
X-PUBLISHED-TTL:PT1H
BEGIN:VTIMEZONE
TZID:Europe/Amsterdam
BEGIN:DAYLIGHT
TZOFFSETFROM:+0100
TZOFFSETTO:+0200
TZNAME:CEST
DTSTART:20210328T010000
END:DAYLIGHT
BEGIN:STANDARD
TZOFFSETFROM:+0200
TZOFFSETTO:+0100
TZNAME:CET
DTSTART:20211031T010000
END:STANDARD
BEGIN:DAYLIGHT
TZOFFSETFROM:+0100
TZOFFSETTO:+0200
TZNAME:CEST
DTSTART:20220327T010000
END:DAYLIGHT
BEGIN:STANDARD
TZOFFSETFROM:+0200
TZOFFSETTO:+0100
TZNAME:CET
DTSTART:20221030T010000
END:STANDARD
BEGIN:DAYLIGHT
TZOFFSETFROM:+0100
TZOFFSETTO:+0200
TZNAME:CEST
DTSTART:20230326T010000
END:DAYLIGHT
BEGIN:STANDARD
TZOFFSETFROM:+0200
TZOFFSETTO:+0100
TZNAME:CET
DTSTART:20231029T010000
END:STANDARD
BEGIN:DAYLIGHT
TZOFFSETFROM:+0100
TZOFFSETTO:+0200
TZNAME:CEST
DTSTART:20240331T010000
END:DAYLIGHT
BEGIN:STANDARD
TZOFFSETFROM:+0200
TZOFFSETTO:+0100
TZNAME:CET
DTSTART:20241027T010000
END:STANDARD
BEGIN:DAYLIGHT
TZOFFSETFROM:+0100
TZOFFSETTO:+0200
TZNAME:CEST
DTSTART:20250330T010000
END:DAYLIGHT
BEGIN:STANDARD
TZOFFSETFROM:+0200
TZOFFSETTO:+0100
TZNAME:CET
DTSTART:20251026T010000
END:STANDARD
END:VTIMEZONE
BEGIN:VEVENT
DTSTART;TZID=Europe/Amsterdam:20220902T093000
DTEND;TZID=Europe/Amsterdam:20220902T113000
DTSTAMP:20260424T005844
CREATED:20220801T134152Z
LAST-MODIFIED:20220801T141056Z
UID:1035-1662111000-1662118200@www.draagjegeluk.nl
SUMMARY:MamaCafé
DESCRIPTION:Bij de Kersen & Theetuin Molenweg\,  \n\n\n\nMolenweg 28\, 4111 KP Zoelmond
URL:https://www.draagjegeluk.nl/event/mamacafe-3/
LOCATION:Gelderland
CATEGORIES:MamaCafé
END:VEVENT
BEGIN:VEVENT
DTSTART;TZID=Europe/Amsterdam:20220908T093000
DTEND;TZID=Europe/Amsterdam:20220908T113000
DTSTAMP:20260424T005844
CREATED:20220801T134152Z
LAST-MODIFIED:20220801T140851Z
UID:1046-1662629400-1662636600@www.draagjegeluk.nl
SUMMARY:MamaCafé
DESCRIPTION:Bij de Harten Inn\,  \n\n\n\nRijksstraatweg 17\, 4191 SC Geldermalsen
URL:https://www.draagjegeluk.nl/event/mamacafe-2-2/
LOCATION:Gelderland
CATEGORIES:MamaCafé
END:VEVENT
BEGIN:VEVENT
DTSTART;TZID=Europe/Amsterdam:20220921T093000
DTEND;TZID=Europe/Amsterdam:20220921T113000
DTSTAMP:20260424T005844
CREATED:20220801T134152Z
LAST-MODIFIED:20220801T140800Z
UID:1056-1663752600-1663759800@www.draagjegeluk.nl
SUMMARY:MamaCafé
DESCRIPTION:Bij de Dorpshuis in Erichem\,  \n\n\n\nGeldenakker 10\, 4117 GE Erichem
URL:https://www.draagjegeluk.nl/event/mamacafe-4-3-2/
LOCATION:Gelderland
CATEGORIES:MamaCafé
END:VEVENT
BEGIN:VEVENT
DTSTART;TZID=Europe/Amsterdam:20221007T093000
DTEND;TZID=Europe/Amsterdam:20221007T113000
DTSTAMP:20260424T005844
CREATED:20220801T134152Z
LAST-MODIFIED:20220801T140731Z
UID:1041-1665135000-1665142200@www.draagjegeluk.nl
SUMMARY:MamaCafé
DESCRIPTION:Bij de Kersen & Theetuin Molenweg\,  \n\n\n\nMolenweg 28\, 4111 KP Zoelmond
URL:https://www.draagjegeluk.nl/event/mamacafe-4-2/
LOCATION:Gelderland
CATEGORIES:MamaCafé
END:VEVENT
BEGIN:VEVENT
DTSTART;TZID=Europe/Amsterdam:20221013T093000
DTEND;TZID=Europe/Amsterdam:20221013T113000
DTSTAMP:20260424T005844
CREATED:20220801T134152Z
LAST-MODIFIED:20220801T140707Z
UID:1050-1665653400-1665660600@www.draagjegeluk.nl
SUMMARY:MamaCafé
DESCRIPTION:Bij de Harten Inn\,  \n\n\n\nRijksstraatweg 17\, 4191 SC Geldermalsen
URL:https://www.draagjegeluk.nl/event/mamacafe-2-2-2/
LOCATION:Gelderland
CATEGORIES:MamaCafé
END:VEVENT
BEGIN:VEVENT
DTSTART;TZID=Europe/Amsterdam:20221104T093000
DTEND;TZID=Europe/Amsterdam:20221104T113000
DTSTAMP:20260424T005844
CREATED:20220801T134152Z
LAST-MODIFIED:20250721T110901Z
UID:1039-1667554200-1667561400@www.draagjegeluk.nl
SUMMARY:MamaCafé
DESCRIPTION:Bij de Kersen & Theetuin Molenweg\,  \n\n\n\nMolenweg 28\, 4111 KP Zoelmond
URL:https://www.draagjegeluk.nl/event/mamacafe-4/
LOCATION:Gelderland
CATEGORIES:MamaCafé
END:VEVENT
BEGIN:VEVENT
DTSTART;TZID=Europe/Amsterdam:20221110T093000
DTEND;TZID=Europe/Amsterdam:20221110T113000
DTSTAMP:20260424T005844
CREATED:20220801T134152Z
LAST-MODIFIED:20250721T110901Z
UID:1052-1668072600-1668079800@www.draagjegeluk.nl
SUMMARY:MamaCafé
DESCRIPTION:Bij de Harten Inn\,  \n\n\n\nRijksstraatweg 17\, 4191 SC Geldermalsen
URL:https://www.draagjegeluk.nl/event/mamacafe-2-2-2-2/
LOCATION:Gelderland
CATEGORIES:MamaCafé
END:VEVENT
BEGIN:VEVENT
DTSTART;TZID=Europe/Amsterdam:20240105T100000
DTEND;TZID=Europe/Amsterdam:20240105T120000
DTSTAMP:20260424T005844
CREATED:20231230T152722Z
LAST-MODIFIED:20250721T110901Z
UID:1753-1704448800-1704456000@www.draagjegeluk.nl
SUMMARY:Het Betuwse MamaCafé Lienden
DESCRIPTION:Bibliotheek te Lienden. Elke 1e vrijdagochtend van de maand van 10 tot 12uur.De toegang is gratis
URL:https://www.draagjegeluk.nl/event/het-betuwse-mamacafe-lienden-050124/
LOCATION:Het Betuwse MamaCafé Lienden\, Blommeland 14\, Lienden\, Gelderland\, 4033 JL
CATEGORIES:MamaCafé
END:VEVENT
BEGIN:VEVENT
DTSTART;TZID=Europe/Amsterdam:20240111T100000
DTEND;TZID=Europe/Amsterdam:20240111T120000
DTSTAMP:20260424T005844
CREATED:20231230T160307Z
LAST-MODIFIED:20250721T110901Z
UID:1785-1704967200-1704974400@www.draagjegeluk.nl
SUMMARY:Het Betuwse MamaCafé Geldermalsen
DESCRIPTION:Bij Le Mélangeur Koffie Thee & Chocolade\, Marktplein 16\, 4191 AC Geldermalsen
URL:https://www.draagjegeluk.nl/event/het-betuwse-mamacafe-geldermalsen-110124/
LOCATION:Het Betuwse MamaCafé Geldermalsen\, Herman Kuijkstraat 54\, Geldermalsen\, Gelderland\, 4191 AB
CATEGORIES:MamaCafé
END:VEVENT
BEGIN:VEVENT
DTSTART;TZID=Europe/Amsterdam:20240117T100000
DTEND;TZID=Europe/Amsterdam:20240117T120000
DTSTAMP:20260424T005844
CREATED:20231230T161508Z
LAST-MODIFIED:20250721T110901Z
UID:1811-1705485600-1705492800@www.draagjegeluk.nl
SUMMARY:Het Betuwse MamaCafé Tiel
DESCRIPTION:Zinder Café te Tiel\nElke 3e woensdagochtend van de maand van 10 tot 12uur.\nDe toegang is gratis
URL:https://www.draagjegeluk.nl/event/het-betuwse-mamacafe-tiel-170124/
LOCATION:Het Betuwse MamaCafé Tiel\, Rechtbankstraat 1\, Tiel\, Gelderland\, 4001 JR\, Nederland
CATEGORIES:MamaCafé
END:VEVENT
BEGIN:VEVENT
DTSTART;TZID=Europe/Amsterdam:20240126T100000
DTEND;TZID=Europe/Amsterdam:20240126T120000
DTSTAMP:20260424T005844
CREATED:20231230T163554Z
LAST-MODIFIED:20250721T110901Z
UID:1838-1706263200-1706270400@www.draagjegeluk.nl
SUMMARY:Het Betuwse MamaCafé Maurik
DESCRIPTION:’t Klokhuis te Maurik\nElke 4e vrijdagochtend van de maand van 10 tot 12uur.\nDe toegang is gratis
URL:https://www.draagjegeluk.nl/event/het-betuwse-mamacafe-maurik-260124/
LOCATION:Het Betuwse MamaCafé Maurik\, Sterappelhof 7\, Maurik\, Gelderland\, 4021 VC\, Nederland
CATEGORIES:MamaCafé
END:VEVENT
BEGIN:VEVENT
DTSTART;TZID=Europe/Amsterdam:20240202T100000
DTEND;TZID=Europe/Amsterdam:20240202T120000
DTSTAMP:20260424T005844
CREATED:20231230T153517Z
LAST-MODIFIED:20250721T110901Z
UID:1755-1706868000-1706875200@www.draagjegeluk.nl
SUMMARY:Het Betuwse MamaCafé Lienden
DESCRIPTION:Bibliotheek te Lienden. Elke 1e vrijdagochtend van de maand van 10 tot 12uur.De toegang is gratis
URL:https://www.draagjegeluk.nl/event/het-betuwse-mamacafe-lienden-020224/
LOCATION:Het Betuwse MamaCafé Lienden\, Blommeland 14\, Lienden\, Gelderland\, 4033 JL
CATEGORIES:MamaCafé
END:VEVENT
BEGIN:VEVENT
DTSTART;TZID=Europe/Amsterdam:20240208T100000
DTEND;TZID=Europe/Amsterdam:20240208T120000
DTSTAMP:20260424T005844
CREATED:20231230T160355Z
LAST-MODIFIED:20250721T110901Z
UID:1787-1707386400-1707393600@www.draagjegeluk.nl
SUMMARY:Het Betuwse MamaCafé Geldermalsen
DESCRIPTION:Bij Le Mélangeur Koffie Thee & Chocolade\, Marktplein 16\, 4191 AC Geldermalsen
URL:https://www.draagjegeluk.nl/event/het-betuwse-mamacafe-geldermalsen-080224/
LOCATION:Het Betuwse MamaCafé Geldermalsen\, Herman Kuijkstraat 54\, Geldermalsen\, Gelderland\, 4191 AB
CATEGORIES:MamaCafé
END:VEVENT
BEGIN:VEVENT
DTSTART;TZID=Europe/Amsterdam:20240221T100000
DTEND;TZID=Europe/Amsterdam:20240221T120000
DTSTAMP:20260424T005844
CREATED:20231230T161623Z
LAST-MODIFIED:20250721T110901Z
UID:1813-1708509600-1708516800@www.draagjegeluk.nl
SUMMARY:Het Betuwse MamaCafé Tiel
DESCRIPTION:Zinder Café te Tiel\nElke 3e woensdagochtend van de maand van 10 tot 12uur.\nDe toegang is gratis
URL:https://www.draagjegeluk.nl/event/het-betuwse-mamacafe-tiel-210224/
LOCATION:Het Betuwse MamaCafé Tiel\, Rechtbankstraat 1\, Tiel\, Gelderland\, 4001 JR\, Nederland
CATEGORIES:MamaCafé
END:VEVENT
BEGIN:VEVENT
DTSTART;TZID=Europe/Amsterdam:20240223T100000
DTEND;TZID=Europe/Amsterdam:20240223T120000
DTSTAMP:20260424T005844
CREATED:20231230T163700Z
LAST-MODIFIED:20250721T110901Z
UID:1840-1708682400-1708689600@www.draagjegeluk.nl
SUMMARY:Het Betuwse MamaCafé Maurik
DESCRIPTION:’t Klokhuis te Maurik\nElke 4e vrijdagochtend van de maand van 10 tot 12uur.\nDe toegang is gratis
URL:https://www.draagjegeluk.nl/event/het-betuwse-mamacafe-maurik-230224/
LOCATION:Het Betuwse MamaCafé Maurik\, Sterappelhof 7\, Maurik\, Gelderland\, 4021 VC\, Nederland
CATEGORIES:MamaCafé
END:VEVENT
BEGIN:VEVENT
DTSTART;TZID=Europe/Amsterdam:20240301T100000
DTEND;TZID=Europe/Amsterdam:20240301T120000
DTSTAMP:20260424T005844
CREATED:20231230T153606Z
LAST-MODIFIED:20250721T110901Z
UID:1757-1709287200-1709294400@www.draagjegeluk.nl
SUMMARY:Het Betuwse MamaCafé Lienden
DESCRIPTION:Bibliotheek te Lienden. Elke 1e vrijdagochtend van de maand van 10 tot 12uur.De toegang is gratis
URL:https://www.draagjegeluk.nl/event/het-betuwse-mamacafe-lienden-010324/
LOCATION:Het Betuwse MamaCafé Lienden\, Blommeland 14\, Lienden\, Gelderland\, 4033 JL
CATEGORIES:MamaCafé
END:VEVENT
BEGIN:VEVENT
DTSTART;TZID=Europe/Amsterdam:20240314T100000
DTEND;TZID=Europe/Amsterdam:20240314T120000
DTSTAMP:20260424T005844
CREATED:20231230T160439Z
LAST-MODIFIED:20250721T110901Z
UID:1789-1710410400-1710417600@www.draagjegeluk.nl
SUMMARY:Het Betuwse MamaCafé Geldermalsen
DESCRIPTION:Bij Le Mélangeur Koffie Thee & Chocolade\, Marktplein 16\, 4191 AC Geldermalsen
URL:https://www.draagjegeluk.nl/event/het-betuwse-mamacafe-geldermalsen-140324/
LOCATION:Het Betuwse MamaCafé Geldermalsen\, Herman Kuijkstraat 54\, Geldermalsen\, Gelderland\, 4191 AB
CATEGORIES:MamaCafé
END:VEVENT
BEGIN:VEVENT
DTSTART;TZID=Europe/Amsterdam:20240320T100000
DTEND;TZID=Europe/Amsterdam:20240320T120000
DTSTAMP:20260424T005844
CREATED:20231230T161722Z
LAST-MODIFIED:20250721T110901Z
UID:1815-1710928800-1710936000@www.draagjegeluk.nl
SUMMARY:Het Betuwse MamaCafé Tiel
DESCRIPTION:Zinder Café te Tiel\nElke 3e woensdagochtend van de maand van 10 tot 12uur.\nDe toegang is gratis
URL:https://www.draagjegeluk.nl/event/het-betuwse-mamacafe-tiel-200324/
LOCATION:Het Betuwse MamaCafé Tiel\, Rechtbankstraat 1\, Tiel\, Gelderland\, 4001 JR\, Nederland
CATEGORIES:MamaCafé
END:VEVENT
BEGIN:VEVENT
DTSTART;TZID=Europe/Amsterdam:20240322T100000
DTEND;TZID=Europe/Amsterdam:20240322T120000
DTSTAMP:20260424T005844
CREATED:20231230T163815Z
LAST-MODIFIED:20250721T110901Z
UID:1842-1711101600-1711108800@www.draagjegeluk.nl
SUMMARY:Het Betuwse MamaCafé Maurik
DESCRIPTION:’t Klokhuis te Maurik\nElke 4e vrijdagochtend van de maand van 10 tot 12uur.\nDe toegang is gratis
URL:https://www.draagjegeluk.nl/event/het-betuwse-mamacafe-maurik-220324/
LOCATION:Het Betuwse MamaCafé Maurik\, Sterappelhof 7\, Maurik\, Gelderland\, 4021 VC\, Nederland
CATEGORIES:MamaCafé
END:VEVENT
BEGIN:VEVENT
DTSTART;TZID=Europe/Amsterdam:20240405T100000
DTEND;TZID=Europe/Amsterdam:20240405T120000
DTSTAMP:20260424T005844
CREATED:20231230T153658Z
LAST-MODIFIED:20250721T110901Z
UID:1759-1712311200-1712318400@www.draagjegeluk.nl
SUMMARY:Het Betuwse MamaCafé Lienden
DESCRIPTION:Bibliotheek te Lienden. Elke 1e vrijdagochtend van de maand van 10 tot 12uur.De toegang is gratis
URL:https://www.draagjegeluk.nl/event/het-betuwse-mamacafe-lienden-050424/
LOCATION:Het Betuwse MamaCafé Lienden\, Blommeland 14\, Lienden\, Gelderland\, 4033 JL
CATEGORIES:MamaCafé
END:VEVENT
BEGIN:VEVENT
DTSTART;TZID=Europe/Amsterdam:20240411T100000
DTEND;TZID=Europe/Amsterdam:20240411T120000
DTSTAMP:20260424T005844
CREATED:20231230T160606Z
LAST-MODIFIED:20250721T110901Z
UID:1791-1712829600-1712836800@www.draagjegeluk.nl
SUMMARY:Het Betuwse MamaCafé Geldermalsen
DESCRIPTION:Bij Le Mélangeur Koffie Thee & Chocolade\, Marktplein 16\, 4191 AC Geldermalsen
URL:https://www.draagjegeluk.nl/event/het-betuwse-mamacafe-geldermalsen-110424/
LOCATION:Het Betuwse MamaCafé Geldermalsen\, Herman Kuijkstraat 54\, Geldermalsen\, Gelderland\, 4191 AB
CATEGORIES:MamaCafé
END:VEVENT
BEGIN:VEVENT
DTSTART;TZID=Europe/Amsterdam:20240417T100000
DTEND;TZID=Europe/Amsterdam:20240417T120000
DTSTAMP:20260424T005844
CREATED:20231230T161801Z
LAST-MODIFIED:20250721T110901Z
UID:1817-1713348000-1713355200@www.draagjegeluk.nl
SUMMARY:Het Betuwse MamaCafé Tiel
DESCRIPTION:Zinder Café te Tiel\nElke 3e woensdagochtend van de maand van 10 tot 12uur.\nDe toegang is gratis
URL:https://www.draagjegeluk.nl/event/het-betuwse-mamacafe-tiel-170424/
LOCATION:Het Betuwse MamaCafé Tiel\, Rechtbankstraat 1\, Tiel\, Gelderland\, 4001 JR\, Nederland
CATEGORIES:MamaCafé
END:VEVENT
BEGIN:VEVENT
DTSTART;TZID=Europe/Amsterdam:20240426T100000
DTEND;TZID=Europe/Amsterdam:20240426T120000
DTSTAMP:20260424T005844
CREATED:20231230T163924Z
LAST-MODIFIED:20250721T110901Z
UID:1844-1714125600-1714132800@www.draagjegeluk.nl
SUMMARY:Het Betuwse MamaCafé Maurik
DESCRIPTION:’t Klokhuis te Maurik\nElke 4e vrijdagochtend van de maand van 10 tot 12uur.\nDe toegang is gratis
URL:https://www.draagjegeluk.nl/event/het-betuwse-mamacafe-maurik-260424/
LOCATION:Het Betuwse MamaCafé Maurik\, Sterappelhof 7\, Maurik\, Gelderland\, 4021 VC\, Nederland
CATEGORIES:MamaCafé
END:VEVENT
BEGIN:VEVENT
DTSTART;TZID=Europe/Amsterdam:20240501T100000
DTEND;TZID=Europe/Amsterdam:20240501T120000
DTSTAMP:20260424T005844
CREATED:20240418T101643Z
LAST-MODIFIED:20250721T110901Z
UID:1976-1714557600-1714564800@www.draagjegeluk.nl
SUMMARY:Het Betuwse MamaCafé Tiel
DESCRIPTION:Zinder Café te Tiel\nElke 1e en 3e woensdagochtend van de maand van 10 tot 12uur.\nDe toegang is gratis
URL:https://www.draagjegeluk.nl/event/het-betuwse-mamacafe-tiel/
LOCATION:Het Betuwse MamaCafé Tiel\, Rechtbankstraat 1\, Tiel\, Gelderland\, 4001 JR\, Nederland
CATEGORIES:MamaCafé
END:VEVENT
BEGIN:VEVENT
DTSTART;TZID=Europe/Amsterdam:20240503T100000
DTEND;TZID=Europe/Amsterdam:20240503T120000
DTSTAMP:20260424T005844
CREATED:20231230T153742Z
LAST-MODIFIED:20250721T110901Z
UID:1761-1714730400-1714737600@www.draagjegeluk.nl
SUMMARY:Het Betuwse MamaCafé Lienden
DESCRIPTION:Bibliotheek te Lienden. Elke 1e vrijdagochtend van de maand van 10 tot 12uur.De toegang is gratis
URL:https://www.draagjegeluk.nl/event/het-betuwse-mamacafe-lienden-030524/
LOCATION:Het Betuwse MamaCafé Lienden\, Blommeland 14\, Lienden\, Gelderland\, 4033 JL
CATEGORIES:MamaCafé
END:VEVENT
BEGIN:VEVENT
DTSTART;TZID=Europe/Amsterdam:20240509T100000
DTEND;TZID=Europe/Amsterdam:20240509T120000
DTSTAMP:20260424T005844
CREATED:20231230T160646Z
LAST-MODIFIED:20250721T110901Z
UID:1793-1715248800-1715256000@www.draagjegeluk.nl
SUMMARY:Het Betuwse MamaCafé Geldermalsen
DESCRIPTION:Bij Le Mélangeur Koffie Thee & Chocolade\, Marktplein 16\, 4191 AC Geldermalsen
URL:https://www.draagjegeluk.nl/event/het-betuwse-mamacafe-geldermalsen-090524/
LOCATION:Het Betuwse MamaCafé Geldermalsen\, Herman Kuijkstraat 54\, Geldermalsen\, Gelderland\, 4191 AB
CATEGORIES:MamaCafé
END:VEVENT
BEGIN:VEVENT
DTSTART;TZID=Europe/Amsterdam:20240515T100000
DTEND;TZID=Europe/Amsterdam:20240515T120000
DTSTAMP:20260424T005844
CREATED:20231230T161842Z
LAST-MODIFIED:20250721T110901Z
UID:1819-1715767200-1715774400@www.draagjegeluk.nl
SUMMARY:Het Betuwse MamaCafé Tiel
DESCRIPTION:Zinder Café te Tiel\nElke 1e en 3e woensdagochtend van de maand van 10 tot 12uur.\nDe toegang is gratis
URL:https://www.draagjegeluk.nl/event/het-betuwse-mamacafe-tiel-150524/
LOCATION:Het Betuwse MamaCafé Tiel\, Rechtbankstraat 1\, Tiel\, Gelderland\, 4001 JR\, Nederland
CATEGORIES:MamaCafé
END:VEVENT
BEGIN:VEVENT
DTSTART;TZID=Europe/Amsterdam:20240524T100000
DTEND;TZID=Europe/Amsterdam:20240524T120000
DTSTAMP:20260424T005844
CREATED:20231230T164003Z
LAST-MODIFIED:20250721T110901Z
UID:1846-1716544800-1716552000@www.draagjegeluk.nl
SUMMARY:Het Betuwse MamaCafé Maurik
DESCRIPTION:’t Klokhuis te Maurik\nElke 4e vrijdagochtend van de maand van 10 tot 12uur.\nDe toegang is gratis
URL:https://www.draagjegeluk.nl/event/het-betuwse-mamacafe-maurik-240524/
LOCATION:Het Betuwse MamaCafé Maurik\, Sterappelhof 7\, Maurik\, Gelderland\, 4021 VC\, Nederland
CATEGORIES:MamaCafé
END:VEVENT
BEGIN:VEVENT
DTSTART;TZID=Europe/Amsterdam:20240605T100000
DTEND;TZID=Europe/Amsterdam:20240605T120000
DTSTAMP:20260424T005844
CREATED:20240418T101724Z
LAST-MODIFIED:20250721T110901Z
UID:1978-1717581600-1717588800@www.draagjegeluk.nl
SUMMARY:Het Betuwse MamaCafé Tiel
DESCRIPTION:Zinder Café te Tiel\nElke 1e en 3e woensdagochtend van de maand van 10 tot 12uur.\nDe toegang is gratis
URL:https://www.draagjegeluk.nl/event/het-betuwse-mamacafe-tiel-050624/
LOCATION:Het Betuwse MamaCafé Tiel\, Rechtbankstraat 1\, Tiel\, Gelderland\, 4001 JR\, Nederland
CATEGORIES:MamaCafé
END:VEVENT
BEGIN:VEVENT
DTSTART;TZID=Europe/Amsterdam:20240607T100000
DTEND;TZID=Europe/Amsterdam:20240607T120000
DTSTAMP:20260424T005844
CREATED:20231230T153829Z
LAST-MODIFIED:20250721T110901Z
UID:1763-1717754400-1717761600@www.draagjegeluk.nl
SUMMARY:Het Betuwse MamaCafé Lienden
DESCRIPTION:Bibliotheek te Lienden. Elke 1e vrijdagochtend van de maand van 10 tot 12uur.De toegang is gratis
URL:https://www.draagjegeluk.nl/event/het-betuwse-mamacafe-lienden-070624/
LOCATION:Het Betuwse MamaCafé Lienden\, Blommeland 14\, Lienden\, Gelderland\, 4033 JL
CATEGORIES:MamaCafé
END:VEVENT
END:VCALENDAR