BEGIN:VCALENDAR
VERSION:2.0
PRODID:-//DRAAG JE GELUK - ECPv6.15.20//NONSGML v1.0//EN
CALSCALE:GREGORIAN
METHOD:PUBLISH
X-ORIGINAL-URL:https://www.draagjegeluk.nl
X-WR-CALDESC:Evenementen voor DRAAG JE GELUK
REFRESH-INTERVAL;VALUE=DURATION:PT1H
X-Robots-Tag:noindex
X-PUBLISHED-TTL:PT1H
BEGIN:VTIMEZONE
TZID:Europe/Amsterdam
BEGIN:DAYLIGHT
TZOFFSETFROM:+0100
TZOFFSETTO:+0200
TZNAME:CEST
DTSTART:20240331T010000
END:DAYLIGHT
BEGIN:STANDARD
TZOFFSETFROM:+0200
TZOFFSETTO:+0100
TZNAME:CET
DTSTART:20241027T010000
END:STANDARD
BEGIN:DAYLIGHT
TZOFFSETFROM:+0100
TZOFFSETTO:+0200
TZNAME:CEST
DTSTART:20250330T010000
END:DAYLIGHT
BEGIN:STANDARD
TZOFFSETFROM:+0200
TZOFFSETTO:+0100
TZNAME:CET
DTSTART:20251026T010000
END:STANDARD
BEGIN:DAYLIGHT
TZOFFSETFROM:+0100
TZOFFSETTO:+0200
TZNAME:CEST
DTSTART:20260329T010000
END:DAYLIGHT
BEGIN:STANDARD
TZOFFSETFROM:+0200
TZOFFSETTO:+0100
TZNAME:CET
DTSTART:20261025T010000
END:STANDARD
END:VTIMEZONE
BEGIN:VEVENT
DTSTART;TZID=Europe/Amsterdam:20250425T100000
DTEND;TZID=Europe/Amsterdam:20250425T120000
DTSTAMP:20260421T200318
CREATED:20241105T112541Z
LAST-MODIFIED:20250721T110859Z
UID:2278-1745575200-1745582400@www.draagjegeluk.nl
SUMMARY:Het Betuwse MamaCafé Tiel Oosthonk
DESCRIPTION:Bij Wijkcentrum Het Oosthonk\, Meeslaan 2a\, 4005 VR Tiel – Nederland\nDe toegang is gratis
URL:https://www.draagjegeluk.nl/event/het-betuwse-mamacafe-tiel-oosthonk/
LOCATION:Het Betuwse MamaCafé Tiel Oosthonk\, Meeslaan 2a\, Tiel\, Gelderland\, 4005 VR
CATEGORIES:MamaCafé
END:VEVENT
END:VCALENDAR