BEGIN:VCALENDAR
VERSION:2.0
PRODID:-//DRAAG JE GELUK - ECPv6.15.20//NONSGML v1.0//EN
CALSCALE:GREGORIAN
METHOD:PUBLISH
X-WR-CALNAME:DRAAG JE GELUK
X-ORIGINAL-URL:https://www.draagjegeluk.nl
X-WR-CALDESC:Evenementen voor DRAAG JE GELUK
REFRESH-INTERVAL;VALUE=DURATION:PT1H
X-Robots-Tag:noindex
X-PUBLISHED-TTL:PT1H
BEGIN:VTIMEZONE
TZID:Europe/Amsterdam
BEGIN:DAYLIGHT
TZOFFSETFROM:+0100
TZOFFSETTO:+0200
TZNAME:CEST
DTSTART:20240331T010000
END:DAYLIGHT
BEGIN:STANDARD
TZOFFSETFROM:+0200
TZOFFSETTO:+0100
TZNAME:CET
DTSTART:20241027T010000
END:STANDARD
BEGIN:DAYLIGHT
TZOFFSETFROM:+0100
TZOFFSETTO:+0200
TZNAME:CEST
DTSTART:20250330T010000
END:DAYLIGHT
BEGIN:STANDARD
TZOFFSETFROM:+0200
TZOFFSETTO:+0100
TZNAME:CET
DTSTART:20251026T010000
END:STANDARD
BEGIN:DAYLIGHT
TZOFFSETFROM:+0100
TZOFFSETTO:+0200
TZNAME:CEST
DTSTART:20260329T010000
END:DAYLIGHT
BEGIN:STANDARD
TZOFFSETFROM:+0200
TZOFFSETTO:+0100
TZNAME:CET
DTSTART:20261025T010000
END:STANDARD
END:VTIMEZONE
BEGIN:VEVENT
DTSTART;TZID=Europe/Amsterdam:20250502T100000
DTEND;TZID=Europe/Amsterdam:20250502T120000
DTSTAMP:20260421T163553
CREATED:20241105T113030Z
LAST-MODIFIED:20250721T110859Z
UID:2284-1746180000-1746187200@www.draagjegeluk.nl
SUMMARY:Het Betuwse MamaCafé Lienden
DESCRIPTION:Bibliotheek te Lienden. Elke 1e vrijdagochtend van de maand van 10 tot 12uur.De toegang is gratis
URL:https://www.draagjegeluk.nl/event/het-betuwse-mamacafe-lienden-5/
LOCATION:Het Betuwse MamaCafé Lienden\, Blommeland 14\, Lienden\, Gelderland\, 4033 JL
CATEGORIES:MamaCafé
END:VEVENT
BEGIN:VEVENT
DTSTART;TZID=Europe/Amsterdam:20250507T100000
DTEND;TZID=Europe/Amsterdam:20250507T120000
DTSTAMP:20260421T163553
CREATED:20241105T113115Z
LAST-MODIFIED:20250721T110859Z
UID:2286-1746612000-1746619200@www.draagjegeluk.nl
SUMMARY:Het Betuwse MamaCafé Tiel
DESCRIPTION:Zinder Café te Tiel\nElke 1e en 3e woensdagochtend van de maand van 10 tot 12uur.\nDe toegang is gratis
URL:https://www.draagjegeluk.nl/event/het-betuwse-mamacafe-tiel-9/
LOCATION:Het Betuwse MamaCafé Tiel\, Rechtbankstraat 1\, Tiel\, Gelderland\, 4001 JR\, Nederland
CATEGORIES:MamaCafé
END:VEVENT
BEGIN:VEVENT
DTSTART;TZID=Europe/Amsterdam:20250508T100000
DTEND;TZID=Europe/Amsterdam:20250508T120000
DTSTAMP:20260421T163553
CREATED:20241105T113157Z
LAST-MODIFIED:20250721T110859Z
UID:2288-1746698400-1746705600@www.draagjegeluk.nl
SUMMARY:Het Betuwse MamaCafé Geldermalsen
DESCRIPTION:Bij Le Mélangeur Koffie Thee & Chocolade\, Marktplein 16\, 4191 AC Geldermalsen
URL:https://www.draagjegeluk.nl/event/het-betuwse-mamacafe-geldermalsen-5/
LOCATION:Het Betuwse MamaCafé Geldermalsen\, Herman Kuijkstraat 54\, Geldermalsen\, Gelderland\, 4191 AB
CATEGORIES:MamaCafé
END:VEVENT
BEGIN:VEVENT
DTSTART;TZID=Europe/Amsterdam:20250521T100000
DTEND;TZID=Europe/Amsterdam:20250521T120000
DTSTAMP:20260421T163553
CREATED:20241105T113228Z
LAST-MODIFIED:20250721T110859Z
UID:2290-1747821600-1747828800@www.draagjegeluk.nl
SUMMARY:Het Betuwse MamaCafé Tiel
DESCRIPTION:Zinder Café te Tiel\nElke 1e en 3e woensdagochtend van de maand van 10 tot 12uur.\nDe toegang is gratis
URL:https://www.draagjegeluk.nl/event/het-betuwse-mamacafe-tiel-10/
LOCATION:Het Betuwse MamaCafé Tiel\, Rechtbankstraat 1\, Tiel\, Gelderland\, 4001 JR\, Nederland
CATEGORIES:MamaCafé
END:VEVENT
BEGIN:VEVENT
DTSTART;TZID=Europe/Amsterdam:20250523T100000
DTEND;TZID=Europe/Amsterdam:20250523T120000
DTSTAMP:20260421T163553
CREATED:20241105T113306Z
LAST-MODIFIED:20250721T110859Z
UID:2292-1747994400-1748001600@www.draagjegeluk.nl
SUMMARY:Het Betuwse MamaCafé Tiel Oosthonk
DESCRIPTION:Bij Wijkcentrum Het Oosthonk\, Meeslaan 2a\, 4005 VR Tiel – Nederland\nDe toegang is gratis
URL:https://www.draagjegeluk.nl/event/het-betuwse-mamacafe-tiel-oosthonk-2/
LOCATION:Het Betuwse MamaCafé Tiel Oosthonk\, Meeslaan 2a\, Tiel\, Gelderland\, 4005 VR
CATEGORIES:MamaCafé
END:VEVENT
END:VCALENDAR